BEGIN:VCALENDAR
VERSION:2.0
PRODID:-//AudioTheme 3.0.2
BEGIN:VEVENT
UID:urn:uuid:756ea2ae-5bd9-408f-99e4-57cfaedb4177
URL:https://claudiakuehne.com/shows/2026-03-08/
DTSTART;TZID=GMT:20260308T090000
SUMMARY:Musik im Gottesdienst
DESCRIPTION:Musik im Gottesdienst  Thuner Kantorei\, Leitung: Simon Jenny  Mit: Babette Mondry\, Orgel\, Claudia Kühne\, Cello  Pfarrerin Margrit Schwander
LOCATION:Stadtkirche Thun\, Schlossberg 14\, 3600 Thun\, Thun\, \, Switzerland\, 3600
END:VEVENT
END:VCALENDAR
